BEGIN:VCALENDAR
VERSION:2.0
PRODID:-//Aetas Deae - ECPv6.15.20//NONSGML v1.0//EN
CALSCALE:GREGORIAN
METHOD:PUBLISH
X-WR-CALNAME:Aetas Deae
X-ORIGINAL-URL:https://aetasdeae.com
X-WR-CALDESC:Events for Aetas Deae
REFRESH-INTERVAL;VALUE=DURATION:PT1H
X-Robots-Tag:noindex
X-PUBLISHED-TTL:PT1H
BEGIN:VTIMEZONE
TZID:Europe/Rome
BEGIN:DAYLIGHT
TZOFFSETFROM:+0100
TZOFFSETTO:+0200
TZNAME:CEST
DTSTART:20250330T010000
END:DAYLIGHT
BEGIN:STANDARD
TZOFFSETFROM:+0200
TZOFFSETTO:+0100
TZNAME:CET
DTSTART:20251026T010000
END:STANDARD
BEGIN:DAYLIGHT
TZOFFSETFROM:+0100
TZOFFSETTO:+0200
TZNAME:CEST
DTSTART:20260329T010000
END:DAYLIGHT
BEGIN:STANDARD
TZOFFSETFROM:+0200
TZOFFSETTO:+0100
TZNAME:CET
DTSTART:20261025T010000
END:STANDARD
BEGIN:DAYLIGHT
TZOFFSETFROM:+0100
TZOFFSETTO:+0200
TZNAME:CEST
DTSTART:20270328T010000
END:DAYLIGHT
BEGIN:STANDARD
TZOFFSETFROM:+0200
TZOFFSETTO:+0100
TZNAME:CET
DTSTART:20271031T010000
END:STANDARD
END:VTIMEZONE
BEGIN:VEVENT
DTSTART;TZID=Europe/Rome:20260303T100000
DTEND;TZID=Europe/Rome:20260308T170000
DTSTAMP:20260425T153411
CREATED:20260110T224407Z
LAST-MODIFIED:20260110T224407Z
UID:5374-1772532000-1772989200@aetasdeae.com
SUMMARY:FemDom Content Creation
DESCRIPTION:Content creation event for Fem Dommes and Fem Subs \n  \n  \nFULLLY BOOKED
URL:https://aetasdeae.com/event/femdom-content-creation/
END:VEVENT
BEGIN:VEVENT
DTSTART;TZID=Europe/Rome:20260531T080000
DTEND;TZID=Europe/Rome:20260607T170000
DTSTAMP:20260425T153411
CREATED:20260425T050208Z
LAST-MODIFIED:20260425T050208Z
UID:5822-1780214400-1780851600@aetasdeae.com
SUMMARY:Content Circle: Timeless Elegance on Lake Como Photoshoot
DESCRIPTION:By application or invitation only.  A content production event on Lake Como
URL:https://aetasdeae.com/event/content-circle-timeless-elegance-on-lake-como-photoshoot/
END:VEVENT
BEGIN:VEVENT
DTSTART;TZID=Europe/Rome:20260910T080000
DTEND;TZID=Europe/Rome:20260914T170000
DTSTAMP:20260425T153411
CREATED:20260425T050919Z
LAST-MODIFIED:20260425T050919Z
UID:5826-1789027200-1789405200@aetasdeae.com
SUMMARY:Boss Witch Lake Como Retreat
DESCRIPTION:This is a private event.  If you would like more information\, please get in touch
URL:https://aetasdeae.com/event/boss-witch-lake-como-retreat/
END:VEVENT
BEGIN:VEVENT
DTSTART;TZID=Europe/Rome:20260923T080000
DTEND;TZID=Europe/Rome:20260927T170000
DTSTAMP:20260425T153411
CREATED:20260425T051046Z
LAST-MODIFIED:20260425T051046Z
UID:5828-1790150400-1790528400@aetasdeae.com
SUMMARY:Lacuna Films Private Production Event
DESCRIPTION:This is a private booking
URL:https://aetasdeae.com/event/lacuna-films-private-production-event/
END:VEVENT
BEGIN:VEVENT
DTSTART;TZID=Europe/Rome:20261029T080000
DTEND;TZID=Europe/Rome:20261101T170000
DTSTAMP:20260425T153411
CREATED:20260425T050020Z
LAST-MODIFIED:20260425T050020Z
UID:5820-1793260800-1793552400@aetasdeae.com
SUMMARY:Lake Como Women's Retreat
DESCRIPTION:
URL:https://aetasdeae.com/event/lake-como-womens-retreat/
END:VEVENT
BEGIN:VEVENT
DTSTART;TZID=Europe/Rome:20261105T080000
DTEND;TZID=Europe/Rome:20261109T170000
DTSTAMP:20260425T153411
CREATED:20260110T224738Z
LAST-MODIFIED:20260425T045859Z
UID:5376-1793865600-1794243600@aetasdeae.com
SUMMARY:Lake Como High Protocol Men's Retreat
DESCRIPTION:Application-based high-protocol retreat on Lake Como.  Living in a Female-Led society \nFull details are available by clicking on the link \nSpaces limited.  1:1 ratio.
URL:https://aetasdeae.com/event/lake-como-high-protocol-retreat/
LOCATION:lake como\, como\, Italy
END:VEVENT
BEGIN:VEVENT
DTSTART;TZID=Europe/Rome:20261112T080000
DTEND;TZID=Europe/Rome:20261116T170000
DTSTAMP:20260425T153411
CREATED:20260425T050329Z
LAST-MODIFIED:20260425T050541Z
UID:5824-1794470400-1794848400@aetasdeae.com
SUMMARY:Content Circle: Fall Colours on Lake Como Photoshoot
DESCRIPTION:Invitation and application only based content creation event at Aetas Deae on Lake Como
URL:https://aetasdeae.com/event/content-circle-fall-colours-on-lake-como-photoshoot/
END:VEVENT
BEGIN:VEVENT
DTSTART;TZID=Europe/Rome:20261126T080000
DTEND;TZID=Europe/Rome:20261129T170000
DTSTAMP:20260425T153411
CREATED:20260425T052214Z
LAST-MODIFIED:20260425T052214Z
UID:5835-1795680000-1795971600@aetasdeae.com
SUMMARY:Our bodies; Our Wisdom\, November Edition
DESCRIPTION:This workshop explores the Japanese art of Shibari\, rope bondage\, as a tool for connecting to our bodies.  We explore a range of simple ties and positions as ways to access deeper states\, and then apply the principles of Tantric touch to open up our relationships with our own bodies. \nThis is a women (FLINTA) only retreat\, with limited spaces.  It is communal in nature\, with shared dining and accommodation.  It is also application based.  Rope skills are not required\, nor is a previous background in Tantra.  The emphasis during this retreat will be in finding our centres and our erotic\, sensual bodies\, awakening ourselves to our own power\, and communing with our sisters. \nLed by renowned practitioners from abroad. \nDaily yoga practice\, reflexology\, somatic therapy\, reiki\, and mindfulness exercises will form a part of the experience.
URL:https://aetasdeae.com/event/our-bodies-our-wisdom-november-edition/
END:VEVENT
BEGIN:VEVENT
DTSTART;TZID=Europe/Rome:20261203T080000
DTEND;TZID=Europe/Rome:20261206T170000
DTSTAMP:20260425T153411
CREATED:20260425T051611Z
LAST-MODIFIED:20260425T051656Z
UID:5830-1796284800-1796576400@aetasdeae.com
SUMMARY:Our bodies; our wisdom. December Edition
DESCRIPTION:This women’s (FLINTA only) retreat explores the Japanese Art of Shibari in a body-centred context.  Melding the restrictions and sensations of rope\, we work with the body according to the spiritual\, physical\, and erotic lens of Shibari. \nTaught by well-known figures in both the rope and tantric communities\, the agenda will be accentuated with daily yoga\, mindfulness exercises\, explorations in reflexology and somatic therapy as well as nutrition and health for our well-being. \nFull board is included in the package\, and we dine communally and connect as sisters.  Spaces are limited.  No previous rope experience is required–this is not a technical skills rope workshop but one of using rope as one of the tools we have available to explore how we inhabit our bodies and how we can connect with those around us. \n 
URL:https://aetasdeae.com/event/our-bodies-our-wisdom-december-edition/
END:VEVENT
END:VCALENDAR